Workbook

Sheet BIENVENIDA
B14: Si estás aquí, no es casualidad.
B15: Es porque hay algo en tu día a día que ya no encaja.
B16: Aunque por fuera parece que “todo está bien”… por dentro algo se siente raro.
B17: Más pesado
B18: Más confuso
B19: Más agotador
B20: Y no, no estás exagerando.
B21: Lo que te pasa tiene sentido.
B23: Este ejercicio te va a ayudar a entender mejor lo que está pasando y empezar a hacer pequeños ajustes para que al final del día te sientas más satisfecha contigo misma.
D25: Click para continuar>

Sheet Antes de empezar
B2: Antes de empezar…
B4: No hagas este ejercicio en automático.
B5: Si lo necesitas, hazlo en partes, sin apuro, sin exigencias.
B6: Regálate este momento antes de hacerlo.
B7: No necesitas nada especial. Solo un momento para parar.
B9: Si quieres, toma una respiración profunda…
B10: una más…
B11: otra más…
B12: otra más…
B13: y ahora sí...la última.
B15: Suelta un poco el cuerpo…
B17: Ahora sí, empezamos…
B20: < Click para volver | D20: Click para continuar>

Sheet PASO 1 Y 2
B1: PASO 1: DEFINE TUS ÁREAS
B3: Escoge entre 8 y 10 áreas importantes de tu vida. Ejemplos: Pareja, Familia creada por ti, Familia de donde vienes, Trabajo o negocio, Dinero, Amistades, Tu cuerpo, Tiempo para ti, Ocio, Aporte al entorno
B5: PASO 2: EL SIGNIFICADO DE CADA ÁREA
B7: Define qué significa para ti cada área. No es lo mismo decir “sentirme bien con mi pareja” que “Sentirme segura, poder ser yo, tener una comunicación abierta…” Cuanto más claro lo defines, más claro va a ser para ti si lo estás viviendo o no.
B9: AREAS | D9: SIGNIFICADO
B10: 1
B11: 2
B12: 3
B13: 4
B14: 5
B15: 6
B16: 7
B17: 8
B18: 9
B19: 10
C21: < Click para volver | D21: Click para continuar>

Sheet PASO 3
B1: PASO 3: TU VIDA DESEADA
B3: Tienes 36 puntos. Repártelos entre todas tus áreas según el espacio que deseas que ocupen hoy en tu vida. El ”espacio” se mide en términos de tiempo.
D5: PUNTOS
B6: AREAS | D6: VIDA DESEADA
B8: 1 | C8: =+'PASO 1 Y 2'!C10 -> 0
B9: 2 | C9: =+'PASO 1 Y 2'!C11 -> 0
B10: 3 | C10: =+'PASO 1 Y 2'!C12 -> 0
B11: 4 | C11: =+'PASO 1 Y 2'!C13 -> 0
B12: 5 | C12: =+'PASO 1 Y 2'!C14 -> 0
B13: 6 | C13: =+'PASO 1 Y 2'!C15 -> 0
B14: 7 | C14: =+'PASO 1 Y 2'!C16 -> 0
B15: 8 | C15: =+'PASO 1 Y 2'!C17 -> 0
B16: 9 | C16: =+'PASO 1 Y 2'!C18 -> 0
B17: 10 | C17: =+'PASO 1 Y 2'!C19 -> 0
C19: PUNTAJE TOTAL | D19: =SUM(D8:D17) -> 0
C21: < Click para volver | D21: Click para continuar>
B23: =+IF(D19<>36,"⚠️ Recuerda que la suma total de VIDA DESEADA debe ser de 36 puntos","") -> ⚠️ Recuerda que la suma total de VIDA DESEADA debe ser de 36 puntos

Sheet PASO 4
B1: PASO 4: TU VIDA ACTUAL
B3: Tienes 36 puntos. Repártelos entre todas tus áreas según el espacio REAL que ocupen hoy en tu vida. OJO: No lo que te gustaría. Lo que está pasando DE VERDAD.
D5: PUNTOS
B6: AREAS | D6: VIDA ACTUAL
B8: 1 | C8: =+'PASO 1 Y 2'!C10 -> 0
B9: 2 | C9: =+'PASO 1 Y 2'!C11 -> 0
B10: 3 | C10: =+'PASO 1 Y 2'!C12 -> 0
B11: 4 | C11: =+'PASO 1 Y 2'!C13 -> 0
B12: 5 | C12: =+'PASO 1 Y 2'!C14 -> 0
B13: 6 | C13: =+'PASO 1 Y 2'!C15 -> 0
B14: 7 | C14: =+'PASO 1 Y 2'!C16 -> 0
B15: 8 | C15: =+'PASO 1 Y 2'!C17 -> 0
B16: 9 | C16: =+'PASO 1 Y 2'!C18 -> 0
B17: 10 | C17: =+'PASO 1 Y 2'!C19 -> 0
C19: PUNTAJE TOTAL | D19: =SUM(D8:D17) -> 0
C21: < Click para volver | D21: Click para ver resultado>
B23: =+IF(D19<>36,"⚠️ Recuerda que la suma total de VIDA ACTUAL debe ser de 36 puntos","") -> ⚠️ Recuerda que la suma total de VIDA ACTUAL debe ser de 36 puntos

Sheet MANDALAS
E31: < Click para volver
A34: RESUMEN
D36: PUNTOS
B37: AREAS | D37: VIDA DESEADA | E37: VIDA ACTUAL | F37: SIGNIFICADO
B39: 1 | C39: =+'PASO 1 Y 2'!C10 -> 0 | D39: =+'PASO 3'!D8 -> 0 | E39: =+'PASO 4'!D8 -> 0 | F39: =+'PASO 1 Y 2'!D10 -> 0
B40: 2 | C40: =+'PASO 1 Y 2'!C11 -> 0 | D40: =+'PASO 3'!D9 -> 0 | E40: =+'PASO 4'!D9 -> 0 | F40: =+'PASO 1 Y 2'!D11 -> 0
B41: 3 | C41: =+'PASO 1 Y 2'!C12 -> 0 | D41: =+'PASO 3'!D10 -> 0 | E41: =+'PASO 4'!D10 -> 0 | F41: =+'PASO 1 Y 2'!D12 -> 0
B42: 4 | C42: =+'PASO 1 Y 2'!C13 -> 0 | D42: =+'PASO 3'!D11 -> 0 | E42: =+'PASO 4'!D11 -> 0 | F42: =+'PASO 1 Y 2'!D13 -> 0
B43: 5 | C43: =+'PASO 1 Y 2'!C14 -> 0 | D43: =+'PASO 3'!D12 -> 0 | E43: =+'PASO 4'!D12 -> 0 | F43: =+'PASO 1 Y 2'!D14 -> 0
B44: 6 | C44: =+'PASO 1 Y 2'!C15 -> 0 | D44: =+'PASO 3'!D13 -> 0 | E44: =+'PASO 4'!D13 -> 0 | F44: =+'PASO 1 Y 2'!D15 -> 0
B45: 7 | C45: =+'PASO 1 Y 2'!C16 -> 0 | D45: =+'PASO 3'!D14 -> 0 | E45: =+'PASO 4'!D14 -> 0 | F45: =+'PASO 1 Y 2'!D16 -> 0
B46: 8 | C46: =+'PASO 1 Y 2'!C17 -> 0 | D46: =+'PASO 3'!D15 -> 0 | E46: =+'PASO 4'!D15 -> 0 | F46: =+'PASO 1 Y 2'!D17 -> 0
B47: 9 | C47: =+'PASO 1 Y 2'!C18 -> 0 | D47: =+'PASO 3'!D16 -> 0 | E47: =+'PASO 4'!D16 -> 0 | F47: =+'PASO 1 Y 2'!D18 -> 0
B48: 10 | C48: =+'PASO 1 Y 2'!C19 -> 0 | D48: =+'PASO 3'!D17 -> 0 | E48: =+'PASO 4'!D17 -> 0 | F48: =+'PASO 1 Y 2'!D19 -> 0
C50: PUNTAJE TOTAL | D50: =SUM(D39:D48) -> 0 | E50: =SUM(E39:E48) -> 0
